Package: MDTS Version: 1.24.0 Command: rm -rf MDTS.buildbin-libdir && mkdir MDTS.buildbin-libdir && /Users/biocbuild/BBS/utils/build-universal.sh MDTS_1.24.0.tar.gz /Library/Frameworks/R.framework/Resources/bin/R MDTS.buildbin-libdir StartedAt: 2024-06-11 11:55:52 -0400 (Tue, 11 Jun 2024) EndedAt: 2024-06-11 11:56:45 -0400 (Tue, 11 Jun 2024) EllapsedTime: 52.3 seconds RetCode: 0 Status: OK PackageFile: MDTS_1.24.0.tgz PackageFileSize: 79.3 KiB