Package: MDTS Version: 1.24.0 Command: /Library/Frameworks/R.framework/Resources/bin/R CMD check --install=check:MDTS.install-out.txt --library=/Library/Frameworks/R.framework/Resources/library --no-vignettes --timings MDTS_1.24.0.tar.gz StartedAt: 2024-06-10 20:52:45 -0400 (Mon, 10 Jun 2024) EndedAt: 2024-06-10 20:58:19 -0400 (Mon, 10 Jun 2024) EllapsedTime: 334.7 seconds RetCode: 0 Status: OK CheckDir: MDTS.Rcheck Warnings: 0