Package: MEAT Version: 1.16.0 Command: /Library/Frameworks/R.framework/Resources/bin/R CMD check --install=check:MEAT.install-out.txt --library=/Library/Frameworks/R.framework/Resources/library --no-vignettes --timings MEAT_1.16.0.tar.gz StartedAt: 2024-10-18 02:55:54 -0400 (Fri, 18 Oct 2024) EndedAt: 2024-10-18 03:03:25 -0400 (Fri, 18 Oct 2024) EllapsedTime: 451.7 seconds RetCode: 0 Status: WARNINGS CheckDir: MEAT.Rcheck Warnings: 1