Package: MEAT Version: 1.16.0 Command: /home/biocbuild/bbs-3.19-bioc/R/bin/R CMD build --keep-empty-dirs --no-resave-data MEAT StartedAt: 2024-10-16 19:19:21 -0400 (Wed, 16 Oct 2024) EndedAt: 2024-10-16 19:20:42 -0400 (Wed, 16 Oct 2024) EllapsedTime: 80.2 seconds RetCode: 0 Status: OK PackageFile: MEAT_1.16.0.tar.gz PackageFileSize: 4.974 MiB