Package: MEAT Version: 1.16.0 Command: rm -rf MEAT.buildbin-libdir && mkdir MEAT.buildbin-libdir && F:\biocbuild\bbs-3.19-bioc\R\bin\R.exe CMD INSTALL --build --library=MEAT.buildbin-libdir MEAT_1.16.0.tar.gz StartedAt: 2024-06-27 08:27:57 -0400 (Thu, 27 Jun 2024) EndedAt: 2024-06-27 08:29:24 -0400 (Thu, 27 Jun 2024) EllapsedTime: 87.3 seconds RetCode: 0 Status: OK PackageFile: MEAT_1.16.0.zip PackageFileSize: 5.6 MiB