Package: MEAT Version: 1.16.0 Command: F:\biocbuild\bbs-3.19-bioc\R\bin\R.exe CMD check --no-multiarch --install=check:MEAT.install-out.txt --library=F:\biocbuild\bbs-3.19-bioc\R\library --no-vignettes --timings MEAT_1.16.0.tar.gz StartedAt: 2024-06-27 03:19:20 -0400 (Thu, 27 Jun 2024) EndedAt: 2024-06-27 03:26:55 -0400 (Thu, 27 Jun 2024) EllapsedTime: 455.4 seconds RetCode: 0 Status: WARNINGS CheckDir: MEAT.Rcheck Warnings: 1