Package: MEAT Version: 1.16.0 Command: E:\biocbuild\bbs-3.19-bioc\R\bin\R.exe CMD check --no-multiarch --install=check:MEAT.install-out.txt --library=E:\biocbuild\bbs-3.19-bioc\R\library --no-vignettes --timings MEAT_1.16.0.tar.gz StartedAt: 2024-10-17 03:01:12 -0400 (Thu, 17 Oct 2024) EndedAt: 2024-10-17 03:08:33 -0400 (Thu, 17 Oct 2024) EllapsedTime: 440.9 seconds RetCode: 0 Status: WARNINGS CheckDir: MEAT.Rcheck Warnings: 1