Package: MEB Version: 1.18.0 Command: /Library/Frameworks/R.framework/Resources/bin/R CMD build --keep-empty-dirs --no-resave-data MEB StartedAt: 2024-10-17 03:41:22 -0400 (Thu, 17 Oct 2024) EndedAt: 2024-10-17 03:42:23 -0400 (Thu, 17 Oct 2024) EllapsedTime: 61.8 seconds RetCode: 0 Status: OK PackageFile: MEB_1.18.0.tar.gz PackageFileSize: 1.179 MiB