Package: MEB Version: 1.18.0 Command: rm -rf MEB.buildbin-libdir && mkdir MEB.buildbin-libdir && /Users/biocbuild/BBS/utils/build-universal.sh MEB_1.18.0.tar.gz /Library/Frameworks/R.framework/Resources/bin/R MEB.buildbin-libdir StartedAt: 2024-10-17 16:31:38 -0400 (Thu, 17 Oct 2024) EndedAt: 2024-10-17 16:32:53 -0400 (Thu, 17 Oct 2024) EllapsedTime: 75.2 seconds RetCode: 0 Status: OK PackageFile: MEB_1.18.0.tgz PackageFileSize: 1.526 MiB