Package: MEB Version: 1.18.0 Command: /home/biocbuild/bbs-3.19-bioc/R/bin/R CMD INSTALL MEB StartedAt: 2024-10-16 16:38:41 -0400 (Wed, 16 Oct 2024) EndedAt: 2024-10-16 16:39:09 -0400 (Wed, 16 Oct 2024) EllapsedTime: 27.9 seconds RetCode: 0 Status: OK