Package: MEB Version: 1.18.0 Command: E:\biocbuild\bbs-3.19-bioc\R\bin\R.exe CMD INSTALL MEB StartedAt: 2024-10-16 17:12:23 -0400 (Wed, 16 Oct 2024) EndedAt: 2024-10-16 17:12:57 -0400 (Wed, 16 Oct 2024) EllapsedTime: 34.0 seconds RetCode: 0 Status: OK