Package: MEDIPS Version: 1.56.0 Command: rm -rf MEDIPS.buildbin-libdir && mkdir MEDIPS.buildbin-libdir && /Users/biocbuild/BBS/utils/build-universal.sh MEDIPS_1.56.0.tar.gz /Library/Frameworks/R.framework/Resources/bin/R MEDIPS.buildbin-libdir StartedAt: 2024-10-18 19:17:38 -0400 (Fri, 18 Oct 2024) EndedAt: 2024-10-18 19:18:36 -0400 (Fri, 18 Oct 2024) EllapsedTime: 58.4 seconds RetCode: 0 Status: OK PackageFile: MEDIPS_1.56.0.tgz PackageFileSize: 745.2 KiB