Package: MGFR Version: 1.30.0 Command: rm -rf MGFR.buildbin-libdir && mkdir MGFR.buildbin-libdir && /Users/biocbuild/BBS/utils/build-universal.sh MGFR_1.30.0.tar.gz /Library/Frameworks/R.framework/Resources/bin/R MGFR.buildbin-libdir StartedAt: 2024-10-18 19:25:12 -0400 (Fri, 18 Oct 2024) EndedAt: 2024-10-18 19:25:35 -0400 (Fri, 18 Oct 2024) EllapsedTime: 23.8 seconds RetCode: 0 Status: OK PackageFile: MGFR_1.30.0.tgz PackageFileSize: 2.663 MiB