Package: MGnifyR Version: 1.0.0 Command: /home/biocbuild/bbs-3.19-bioc/R/bin/R CMD INSTALL MGnifyR StartedAt: 2024-10-16 16:39:41 -0400 (Wed, 16 Oct 2024) EndedAt: 2024-10-16 16:40:16 -0400 (Wed, 16 Oct 2024) EllapsedTime: 34.8 seconds RetCode: 0 Status: OK