Package: MGnifyR Version: 1.0.0 Command: chmod a+r MGnifyR -R && E:\biocbuild\bbs-3.19-bioc\R\bin\R.exe CMD build --keep-empty-dirs --no-resave-data MGnifyR StartedAt: 2024-10-16 20:16:40 -0400 (Wed, 16 Oct 2024) EndedAt: 2024-10-16 20:18:14 -0400 (Wed, 16 Oct 2024) EllapsedTime: 94.9 seconds RetCode: 0 Status: OK PackageFile: MGnifyR_1.0.0.tar.gz PackageFileSize: 3.971 MiB