Package: MICSQTL Version: 1.2.2 Command: /Library/Frameworks/R.framework/Resources/bin/R CMD build --keep-empty-dirs --no-resave-data MICSQTL StartedAt: 2024-10-17 04:24:57 -0400 (Thu, 17 Oct 2024) EndedAt: 2024-10-17 04:25:53 -0400 (Thu, 17 Oct 2024) EllapsedTime: 56.3 seconds RetCode: 0 Status: OK PackageFile: MICSQTL_1.2.2.tar.gz PackageFileSize: 3.085 MiB