Package: MICSQTL Version: 1.2.2 Command: /Library/Frameworks/R.framework/Resources/bin/R CMD build --keep-empty-dirs --no-resave-data MICSQTL StartedAt: 2024-06-10 00:35:04 -0400 (Mon, 10 Jun 2024) EndedAt: 2024-06-10 00:36:18 -0400 (Mon, 10 Jun 2024) EllapsedTime: 74.1 seconds RetCode: 0 Status: OK PackageFile: MICSQTL_1.2.2.tar.gz PackageFileSize: 3.085 MiB