Package: MICSQTL Version: 1.2.2 Command: /home/biocbuild/R/R-beta-2024-04-15_r86425/bin/R CMD build --keep-empty-dirs --no-resave-data MICSQTL StartedAt: 2024-05-09 01:38:43 -0000 (Thu, 09 May 2024) EndedAt: 2024-05-09 01:39:39 -0000 (Thu, 09 May 2024) EllapsedTime: 56.1 seconds RetCode: 0 Status: OK PackageFile: MICSQTL_1.2.2.tar.gz PackageFileSize: 3.109 MiB