Package: MICSQTL Version: 1.2.2 Command: /Library/Frameworks/R.framework/Resources/bin/R CMD check --install=check:MICSQTL.install-out.txt --library=/Library/Frameworks/R.framework/Resources/library --no-vignettes --timings MICSQTL_1.2.2.tar.gz StartedAt: 2024-06-09 21:31:13 -0400 (Sun, 09 Jun 2024) EndedAt: 2024-06-09 21:40:47 -0400 (Sun, 09 Jun 2024) EllapsedTime: 574.3 seconds RetCode: 0 Status: OK CheckDir: MICSQTL.Rcheck Warnings: 0