Package: MICSQTL Version: 1.2.2 Command: /home/biocbuild/bbs-3.19-bioc/R/bin/R CMD check --install=check:MICSQTL.install-out.txt --library=/home/biocbuild/bbs-3.19-bioc/R/site-library --timings MICSQTL_1.2.2.tar.gz StartedAt: 2024-10-17 02:26:56 -0400 (Thu, 17 Oct 2024) EndedAt: 2024-10-17 02:36:01 -0400 (Thu, 17 Oct 2024) EllapsedTime: 545.0 seconds RetCode: 0 Status: OK CheckDir: MICSQTL.Rcheck Warnings: 0