Package: MICSQTL Version: 1.2.2 Command: rm -rf MICSQTL.buildbin-libdir && mkdir MICSQTL.buildbin-libdir && F:\biocbuild\bbs-3.19-bioc\R\bin\R.exe CMD INSTALL --build --library=MICSQTL.buildbin-libdir MICSQTL_1.2.2.tar.gz StartedAt: 2024-06-27 08:30:29 -0400 (Thu, 27 Jun 2024) EndedAt: 2024-06-27 08:31:06 -0400 (Thu, 27 Jun 2024) EllapsedTime: 37.1 seconds RetCode: 0 Status: OK PackageFile: MICSQTL_1.2.2.zip PackageFileSize: 2.646 MiB