Package: MICSQTL Version: 1.2.2 Command: chmod a+r MICSQTL -R && F:\biocbuild\bbs-3.19-bioc\R\bin\R.exe CMD build --keep-empty-dirs --no-resave-data MICSQTL StartedAt: 2024-06-26 20:03:39 -0400 (Wed, 26 Jun 2024) EndedAt: 2024-06-26 20:05:02 -0400 (Wed, 26 Jun 2024) EllapsedTime: 83.1 seconds RetCode: 0 Status: OK PackageFile: MICSQTL_1.2.2.tar.gz PackageFileSize: 3.085 MiB