Package: MICSQTL Version: 1.2.2 Command: F:\biocbuild\bbs-3.19-bioc\R\bin\R.exe CMD check --no-multiarch --install=check:MICSQTL.install-out.txt --library=F:\biocbuild\bbs-3.19-bioc\R\library --no-vignettes --timings MICSQTL_1.2.2.tar.gz StartedAt: 2024-06-27 03:38:15 -0400 (Thu, 27 Jun 2024) EndedAt: 2024-06-27 03:50:55 -0400 (Thu, 27 Jun 2024) EllapsedTime: 760.5 seconds RetCode: 0 Status: OK CheckDir: MICSQTL.Rcheck Warnings: 0