Package: MICSQTL Version: 1.2.2 Command: F:\biocbuild\bbs-3.19-bioc\R\bin\R.exe CMD INSTALL MICSQTL StartedAt: 2024-06-26 16:49:52 -0400 (Wed, 26 Jun 2024) EndedAt: 2024-06-26 16:50:27 -0400 (Wed, 26 Jun 2024) EllapsedTime: 34.7 seconds RetCode: 0 Status: OK