Package: MICSQTL Version: 1.2.2 Command: rm -rf MICSQTL.buildbin-libdir && mkdir MICSQTL.buildbin-libdir && E:\biocbuild\bbs-3.19-bioc\R\bin\R.exe CMD INSTALL --build --library=MICSQTL.buildbin-libdir MICSQTL_1.2.2.tar.gz StartedAt: 2024-10-17 08:08:20 -0400 (Thu, 17 Oct 2024) EndedAt: 2024-10-17 08:08:54 -0400 (Thu, 17 Oct 2024) EllapsedTime: 33.6 seconds RetCode: 0 Status: OK PackageFile: MICSQTL_1.2.2.zip PackageFileSize: 2.646 MiB