Package: MICSQTL Version: 1.2.2 Command: chmod a+r MICSQTL -R && E:\biocbuild\bbs-3.19-bioc\R\bin\R.exe CMD build --keep-empty-dirs --no-resave-data MICSQTL StartedAt: 2024-10-16 20:18:17 -0400 (Wed, 16 Oct 2024) EndedAt: 2024-10-16 20:19:37 -0400 (Wed, 16 Oct 2024) EllapsedTime: 79.7 seconds RetCode: 0 Status: OK PackageFile: MICSQTL_1.2.2.tar.gz PackageFileSize: 3.085 MiB