Package: MIRit Version: 1.0.0 Command: /Library/Frameworks/R.framework/Resources/bin/R CMD build --keep-empty-dirs --no-resave-data MIRit StartedAt: 2024-10-17 04:31:45 -0400 (Thu, 17 Oct 2024) EndedAt: 2024-10-17 04:34:03 -0400 (Thu, 17 Oct 2024) EllapsedTime: 137.9 seconds RetCode: 1 Status: ERROR PackageFile: None PackageFileSize: NA