Package: MIRit Version: 1.0.0 Command: /Library/Frameworks/R.framework/Resources/bin/R CMD build --keep-empty-dirs --no-resave-data MIRit StartedAt: 2024-06-10 00:40:18 -0400 (Mon, 10 Jun 2024) EndedAt: 2024-06-10 00:45:40 -0400 (Mon, 10 Jun 2024) EllapsedTime: 321.5 seconds RetCode: 0 Status: OK PackageFile: MIRit_1.0.0.tar.gz PackageFileSize: 3.061 MiB