Package: MIRit Version: 1.0.0 Command: /Library/Frameworks/R.framework/Resources/bin/R CMD check --install=check:MIRit.install-out.txt --library=/Library/Frameworks/R.framework/Resources/library --no-vignettes --timings MIRit_1.0.0.tar.gz StartedAt: 2024-06-10 22:15:05 -0400 (Mon, 10 Jun 2024) EndedAt: 2024-06-10 22:22:35 -0400 (Mon, 10 Jun 2024) EllapsedTime: 450.1 seconds RetCode: 0 Status: OK CheckDir: MIRit.Rcheck Warnings: 0