Package: MIRit Version: 1.0.0 Command: /home/biocbuild/R/R-beta-2024-04-15_r86425/bin/R CMD build --keep-empty-dirs --no-resave-data MIRit StartedAt: 2024-05-09 01:42:15 -0000 (Thu, 09 May 2024) EndedAt: 2024-05-09 01:46:35 -0000 (Thu, 09 May 2024) EllapsedTime: 259.3 seconds RetCode: 0 Status: OK PackageFile: MIRit_1.0.0.tar.gz PackageFileSize: 2.44 MiB