Package: MIRit Version: 1.0.0 Command: rm -rf MIRit.buildbin-libdir && mkdir MIRit.buildbin-libdir && /Users/biocbuild/BBS/utils/build-universal.sh MIRit_1.0.0.tar.gz /Library/Frameworks/R.framework/Resources/bin/R MIRit.buildbin-libdir StartedAt: 2024-08-26 15:22:41 -0400 (Mon, 26 Aug 2024) EndedAt: 2024-08-26 15:24:20 -0400 (Mon, 26 Aug 2024) EllapsedTime: 99.5 seconds RetCode: 0 Status: OK PackageFile: MIRit_1.0.0.tgz PackageFileSize: 3.375 MiB