Package: MIRit Version: 1.0.0 Command: /Library/Frameworks/R.framework/Resources/bin/R CMD INSTALL MIRit StartedAt: 2024-10-16 16:47:25 -0400 (Wed, 16 Oct 2024) EndedAt: 2024-10-16 16:48:58 -0400 (Wed, 16 Oct 2024) EllapsedTime: 92.5 seconds RetCode: 0 Status: OK