Package: MIRit Version: 1.0.0 Command: chmod a+r MIRit -R && F:\biocbuild\bbs-3.19-bioc\R\bin\R.exe CMD build --keep-empty-dirs --no-resave-data MIRit StartedAt: 2024-06-26 20:05:56 -0400 (Wed, 26 Jun 2024) EndedAt: 2024-06-26 20:08:45 -0400 (Wed, 26 Jun 2024) EllapsedTime: 169.8 seconds RetCode: 1 Status: ERROR PackageFile: None PackageFileSize: NA