Package: MIRit Version: 1.0.0 Command: chmod a+r MIRit -R && E:\biocbuild\bbs-3.19-bioc\R\bin\R.exe CMD build --keep-empty-dirs --no-resave-data MIRit StartedAt: 2024-10-16 20:20:42 -0400 (Wed, 16 Oct 2024) EndedAt: 2024-10-16 20:23:35 -0400 (Wed, 16 Oct 2024) EllapsedTime: 173.1 seconds RetCode: 1 Status: ERROR PackageFile: None PackageFileSize: NA