Package: MLInterfaces Version: 1.84.0 Command: rm -rf MLInterfaces.buildbin-libdir && mkdir MLInterfaces.buildbin-libdir && /Users/biocbuild/BBS/utils/build-universal.sh MLInterfaces_1.84.0.tar.gz /Library/Frameworks/R.framework/Resources/bin/R MLInterfaces.buildbin-libdir StartedAt: 2024-06-10 00:27:35 -0400 (Mon, 10 Jun 2024) EndedAt: 2024-06-10 00:28:19 -0400 (Mon, 10 Jun 2024) EllapsedTime: 44.0 seconds RetCode: 0 Status: OK PackageFile: MLInterfaces_1.84.0.tgz PackageFileSize: 3.209 MiB