Package: MLInterfaces Version: 1.84.0 Command: /Library/Frameworks/R.framework/Resources/bin/R CMD build --keep-empty-dirs --no-resave-data MLInterfaces StartedAt: 2024-10-16 21:00:59 -0400 (Wed, 16 Oct 2024) EndedAt: 2024-10-16 21:04:44 -0400 (Wed, 16 Oct 2024) EllapsedTime: 225.2 seconds RetCode: 0 Status: OK PackageFile: MLInterfaces_1.84.0.tar.gz PackageFileSize: 2.806 MiB