Package: MLInterfaces Version: 1.84.0 Command: F:\biocbuild\bbs-3.19-bioc\R\bin\R.exe CMD INSTALL MLInterfaces StartedAt: 2024-06-26 16:33:23 -0400 (Wed, 26 Jun 2024) EndedAt: 2024-06-26 16:34:15 -0400 (Wed, 26 Jun 2024) EllapsedTime: 52.6 seconds RetCode: 0 Status: OK