Package: MLSeq Version: 2.22.0 Command: /Library/Frameworks/R.framework/Resources/bin/R CMD INSTALL MLSeq StartedAt: 2024-06-09 17:14:04 -0400 (Sun, 09 Jun 2024) EndedAt: 2024-06-09 17:14:50 -0400 (Sun, 09 Jun 2024) EllapsedTime: 45.7 seconds RetCode: 0 Status: OK