Package: MLSeq Version: 2.22.0 Command: /Library/Frameworks/R.framework/Resources/bin/R CMD build --keep-empty-dirs --no-resave-data MLSeq StartedAt: 2024-10-16 21:01:04 -0400 (Wed, 16 Oct 2024) EndedAt: 2024-10-16 21:07:24 -0400 (Wed, 16 Oct 2024) EllapsedTime: 380.4 seconds RetCode: 0 Status: OK PackageFile: MLSeq_2.22.0.tar.gz PackageFileSize: 599.3 KiB