Package: MLSeq Version: 2.22.0 Command: rm -rf MLSeq.buildbin-libdir && mkdir MLSeq.buildbin-libdir && F:\biocbuild\bbs-3.19-bioc\R\bin\R.exe CMD INSTALL --build --library=MLSeq.buildbin-libdir MLSeq_2.22.0.tar.gz StartedAt: 2024-06-27 08:31:35 -0400 (Thu, 27 Jun 2024) EndedAt: 2024-06-27 08:32:24 -0400 (Thu, 27 Jun 2024) EllapsedTime: 49.1 seconds RetCode: 0 Status: OK PackageFile: MLSeq_2.22.0.zip PackageFileSize: 1018 KiB