Package: MLSeq Version: 2.22.0 Command: chmod a+r MLSeq -R && F:\biocbuild\bbs-3.19-bioc\R\bin\R.exe CMD build --keep-empty-dirs --no-resave-data MLSeq StartedAt: 2024-06-26 20:08:47 -0400 (Wed, 26 Jun 2024) EndedAt: 2024-06-26 20:11:20 -0400 (Wed, 26 Jun 2024) EllapsedTime: 152.2 seconds RetCode: 0 Status: OK PackageFile: MLSeq_2.22.0.tar.gz PackageFileSize: 529.6 KiB