Package: MLSeq Version: 2.22.0 Command: E:\biocbuild\bbs-3.19-bioc\R\bin\R.exe CMD INSTALL MLSeq StartedAt: 2024-10-16 17:08:51 -0400 (Wed, 16 Oct 2024) EndedAt: 2024-10-16 17:09:42 -0400 (Wed, 16 Oct 2024) EllapsedTime: 51.6 seconds RetCode: 0 Status: OK