Package: MMDiff2 Version: 1.32.0 Command: /Library/Frameworks/R.framework/Resources/bin/R CMD INSTALL MMDiff2 StartedAt: 2024-10-16 17:16:25 -0400 (Wed, 16 Oct 2024) EndedAt: 2024-10-16 17:17:13 -0400 (Wed, 16 Oct 2024) EllapsedTime: 48.2 seconds RetCode: 0 Status: OK