Package: MMDiff2 Version: 1.32.0 Command: /Library/Frameworks/R.framework/Resources/bin/R CMD build --keep-empty-dirs --no-resave-data MMDiff2 StartedAt: 2024-06-10 00:50:59 -0400 (Mon, 10 Jun 2024) EndedAt: 2024-06-10 00:54:19 -0400 (Mon, 10 Jun 2024) EllapsedTime: 199.7 seconds RetCode: 1 Status: ERROR PackageFile: None PackageFileSize: NA