Package: MMDiff2 Version: 1.32.0 Command: /home/biocbuild/bbs-3.19-bioc/R/bin/R CMD INSTALL MMDiff2 StartedAt: 2024-10-16 16:18:38 -0400 (Wed, 16 Oct 2024) EndedAt: 2024-10-16 16:19:14 -0400 (Wed, 16 Oct 2024) EllapsedTime: 36.5 seconds RetCode: 0 Status: OK