Package: MMDiff2 Version: 1.32.0 Command: chmod a+r MMDiff2 -R && F:\biocbuild\bbs-3.19-bioc\R\bin\R.exe CMD build --keep-empty-dirs --no-resave-data MMDiff2 StartedAt: 2024-06-26 20:08:57 -0400 (Wed, 26 Jun 2024) EndedAt: 2024-06-26 20:12:38 -0400 (Wed, 26 Jun 2024) EllapsedTime: 220.4 seconds RetCode: 0 Status: OK PackageFile: MMDiff2_1.32.0.tar.gz PackageFileSize: 2.87 MiB