Package: MMDiff2 Version: 1.32.0 Command: chmod a+r MMDiff2 -R && E:\biocbuild\bbs-3.19-bioc\R\bin\R.exe CMD build --keep-empty-dirs --no-resave-data MMDiff2 StartedAt: 2024-10-16 20:23:16 -0400 (Wed, 16 Oct 2024) EndedAt: 2024-10-16 20:26:15 -0400 (Wed, 16 Oct 2024) EllapsedTime: 179.0 seconds RetCode: 0 Status: OK PackageFile: MMDiff2_1.32.0.tar.gz PackageFileSize: 2.87 MiB