Package: MOFA2 Version: 1.14.0 Command: /Library/Frameworks/R.framework/Resources/bin/R CMD build --keep-empty-dirs --no-resave-data MOFA2 StartedAt: 2024-10-17 04:52:31 -0400 (Thu, 17 Oct 2024) EndedAt: 2024-10-17 04:54:56 -0400 (Thu, 17 Oct 2024) EllapsedTime: 145.2 seconds RetCode: 0 Status: OK PackageFile: MOFA2_1.14.0.tar.gz PackageFileSize: 4.355 MiB