Package: MOFA2 Version: 1.14.0 Command: rm -rf MOFA2.buildbin-libdir && mkdir MOFA2.buildbin-libdir && /Users/biocbuild/BBS/utils/build-universal.sh MOFA2_1.14.0.tar.gz /Library/Frameworks/R.framework/Resources/bin/R MOFA2.buildbin-libdir StartedAt: 2024-06-11 12:07:45 -0400 (Tue, 11 Jun 2024) EndedAt: 2024-06-11 12:08:41 -0400 (Tue, 11 Jun 2024) EllapsedTime: 55.9 seconds RetCode: 0 Status: OK PackageFile: MOFA2_1.14.0.tgz PackageFileSize: 4.986 MiB