Package: MOFA2 Version: 1.14.0 Command: chmod a+r MOFA2 -R && E:\biocbuild\bbs-3.19-bioc\R\bin\R.exe CMD build --keep-empty-dirs --no-resave-data MOFA2 StartedAt: 2024-10-16 20:24:49 -0400 (Wed, 16 Oct 2024) EndedAt: 2024-10-16 20:28:41 -0400 (Wed, 16 Oct 2024) EllapsedTime: 231.6 seconds RetCode: 0 Status: OK PackageFile: MOFA2_1.14.0.tar.gz PackageFileSize: 3.134 MiB